BEGIN:VCALENDAR
VERSION:2.0
PRODID:-//Squarespace Inc/Squarespace 6//v6//EN
BEGIN:VEVENT
UID:5c819c6d0d9297fcebdc0bb0@squarespace.com
DTSTAMP:20190723T045836Z
DTSTART:20190807T070000Z
DTEND:20190807T080000Z
SUMMARY:All in Prayer meeting!
END:VEVENT
END:VCALENDAR
