BEGIN:VCALENDAR
VERSION:2.0
PRODID:-//Squarespace Inc/Squarespace 6//v6//EN
BEGIN:VEVENT
UID:5c819dcd53450a5e7a26e64c@squarespace.com
DTSTAMP:20190723T050402Z
DTSTART:20191127T060000Z
DTEND:20191127T070000Z
SUMMARY:All in Prayer meeting!
END:VEVENT
END:VCALENDAR
