BEGIN:VCALENDAR
VERSION:2.0
PRODID:-//Squarespace Inc/Squarespace 6//v6//EN
BEGIN:VEVENT
UID:5dd26a7a39d8ba0c23bf5fdf@squarespace.com
DTSTAMP:20191118T095933Z
DTSTART:20191130T210000Z
DTEND:20191130T230000Z
SUMMARY:Alastair Simmonds Prophetic Ministry 10am Sunday Service
END:VEVENT
END:VCALENDAR
