BEGIN:VCALENDAR
VERSION:2.0
PRODID:-//Squarespace Inc/Squarespace 6//v6//EN
BEGIN:VEVENT
UID:5c819da4652dea366d9f9277@squarespace.com
DTSTAMP:20190723T050331Z
DTSTART:20191113T060000Z
DTEND:20191113T070000Z
SUMMARY:All in Prayer meeting!
END:VEVENT
END:VCALENDAR
